BEGIN:VCALENDAR
VERSION:2.0
PRODID:-//Save Crow Island Woods - ECPv4.1.1.1//NONSGML v1.0//EN
CALSCALE:GREGORIAN
METHOD:PUBLISH
X-WR-CALNAME:Save Crow Island Woods
X-ORIGINAL-URL:http://savecrowislandwoods.org
X-WR-CALDESC:Events for Save Crow Island Woods
BEGIN:VEVENT
DTSTART;TZID=America/Chicago:20161013T190000
DTEND;TZID=America/Chicago:20161013T210000
DTSTAMP:20260425T034403
CREATED:20161005T201144
LAST-MODIFIED:20161005T201144
UID:1379-1476385200-1476392400@savecrowislandwoods.org
SUMMARY:Village Council Stormwater Study Session
DESCRIPTION:Village council's stormwater study session has been rescheduled from October 11th due to the Yom Kippur holiday.
URL:http://savecrowislandwoods.org/event/village-council-stormwater-study-session/
LOCATION:510 Green Bay Road\, Winnetka\, IL\, 60093\, United States
END:VEVENT
END:VCALENDAR